BEGIN:VCALENDAR
VERSION:2.0
PRODID:-//jEvents 2.0 for Joomla//EN
CALSCALE:GREGORIAN
METHOD:PUBLISH
BEGIN:VEVENT
UID:040000008200E00074C5B7101A82E0080000000000496AC927C5D5010000000000000000100000001C745FE8FFFC704CBD4FCC86902D5D6F
CATEGORIES:Dienstplan Einsatzabteilung 
CLASS:PUBLIC
CREATED:20210106T204000
SUMMARY:AGT , MA - G25, G26 Untersuchung
LOCATION:GerÃ¤tehaus
DESCRIPTION;ENCODING=QUOTED-PRINTABLE: \n
DTSTAMP:20260421T141347Z
DTSTART;VALUE=DATE:20200125
DTEND;VALUE=DATE:20200127
SEQUENCE:0
TRANSP:OPAQUE
END:VEVENT
END:VCALENDAR