BEGIN:VCALENDAR
VERSION:2.0
PRODID:-//jEvents 2.0 for Joomla//EN
CALSCALE:GREGORIAN
METHOD:PUBLISH
BEGIN:VEVENT
UID:040000008200E00074C5B7101A82E00800000000205E03662BC5D501000000000000000010000000290463DA95476741BF9C10FF5D26D44E
CATEGORIES:Dienstplan Einsatzabteilung 
CLASS:PUBLIC
CREATED:20210106T204000
SUMMARY:FW-Ausschuss
DESCRIPTION;ENCODING=QUOTED-PRINTABLE: <br/>
DTSTAMP:20260421T162532Z
DTSTART:20201007T180000Z
DTEND:20201007T193000Z
SEQUENCE:0
TRANSP:OPAQUE
END:VEVENT
END:VCALENDAR