BEGIN:VCALENDAR
VERSION:2.0
PRODID:-//jEvents 2.0 for Joomla//EN
CALSCALE:GREGORIAN
METHOD:PUBLISH
BEGIN:VEVENT
UID:040000008200E00074C5B7101A82E008000000005019B25A29C5D50100000000000000001000000059A7D02F429F1041B3088DD4DFB4660F
CATEGORIES:Dienstplan Einsatzabteilung 
CLASS:PUBLIC
CREATED:20210106T204000
SUMMARY:FW-Ausschuss
DESCRIPTION;ENCODING=QUOTED-PRINTABLE: <br/>
DTSTAMP:20260423T085150Z
DTSTART:20200422T180000Z
DTEND:20200422T193000Z
SEQUENCE:0
TRANSP:OPAQUE
END:VEVENT
END:VCALENDAR