BEGIN:VCALENDAR
VERSION:2.0
PRODID:-//jEvents 2.0 for Joomla//EN
CALSCALE:GREGORIAN
METHOD:PUBLISH
BEGIN:VEVENT
UID:040000008200E00074C5B7101A82E00800000000C0D116EA2AC5D501000000000000000010000000376DE5BF13B986478FF9481C1DD9B39F
CATEGORIES:Dienstplan Einsatzabteilung 
CLASS:PUBLIC
CREATED:20210106T204000
SUMMARY:Gesamt - SommerÃ¼bung
DESCRIPTION;ENCODING=QUOTED-PRINTABLE: \n
DTSTAMP:20260421T153844Z
DTSTART;VALUE=DATE:20200817
DTEND;VALUE=DATE:20200818
SEQUENCE:0
TRANSP:OPAQUE
END:VEVENT
END:VCALENDAR