BEGIN:VCALENDAR
VERSION:2.0
PRODID:-//jEvents 2.0 for Joomla//EN
CALSCALE:GREGORIAN
METHOD:PUBLISH
BEGIN:VEVENT
UID:040000008200E00074C5B7101A82E00800000000F0396E1B28C5D501000000000000000010000000315F4456A29C334CA2D13A01EB9EC1C1
CATEGORIES:Dienstplan Einsatzabteilung 
CLASS:PUBLIC
CREATED:20210106T204000
SUMMARY:GF + ZF - Einsatztaktik
DESCRIPTION;ENCODING=QUOTED-PRINTABLE: \n
DTSTAMP:20260425T120854Z
DTSTART:20200210T190000Z
DTEND:20200210T203000Z
SEQUENCE:0
TRANSP:OPAQUE
END:VEVENT
END:VCALENDAR