BEGIN:VCALENDAR
VERSION:2.0
PRODID:-//jEvents 2.0 for Joomla//EN
CALSCALE:GREGORIAN
METHOD:PUBLISH
BEGIN:VEVENT
UID:040000008200E00074C5B7101A82E008000000002064276327C5D501000000000000000010000000D862CCC27C10D8448428D7BC70CA397C
CATEGORIES:Dienstplan Einsatzabteilung 
CLASS:PUBLIC
CREATED:20210106T204000
SUMMARY:Helfer - JAV Altersabteilung
DESCRIPTION;ENCODING=QUOTED-PRINTABLE: <br/>
DTSTAMP:20260421T123523Z
DTSTART;VALUE=DATE:20200118
DTEND;VALUE=DATE:20200119
SEQUENCE:0
TRANSP:OPAQUE
END:VEVENT
END:VCALENDAR