BEGIN:VCALENDAR
VERSION:2.0
PRODID:-//jEvents 2.0 for Joomla//EN
CALSCALE:GREGORIAN
METHOD:PUBLISH
BEGIN:VEVENT
UID:040000008200E00074C5B7101A82E0080000000070FD0FF428C5D501000000000000000010000000DA84652B0BAAF94D9DB5282218F27A79
CATEGORIES:Dienstplan Einsatzabteilung 
CLASS:PUBLIC
CREATED:20210106T204000
SUMMARY:Rot / Gelb - Hydr. RettungsgerÃ¤te
DESCRIPTION;ENCODING=QUOTED-PRINTABLE: <br/>
DTSTAMP:20260421T043003Z
DTSTART:20200323T190000Z
DTEND:20200323T203000Z
SEQUENCE:0
TRANSP:OPAQUE
END:VEVENT
END:VCALENDAR