BEGIN:VCALENDAR
VERSION:2.0
PRODID:-//jEvents 2.0 for Joomla//EN
CALSCALE:GREGORIAN
METHOD:PUBLISH
BEGIN:VEVENT
UID:040000008200E00074C5B7101A82E00800000000E0F35F7B27C5D501000000000000000010000000C596D9F7DB668B4CBE40B6C9A9944C01
CATEGORIES:Dienstplan Einsatzabteilung 
CLASS:PUBLIC
CREATED:20210106T204000
SUMMARY:Grün / Blau - Sichern von Einsatzstellen
DESCRIPTION;ENCODING=QUOTED-PRINTABLE:
DTSTAMP:20260423T141651Z
DTSTART:20200120T190000Z
DTEND:20200120T203000Z
SEQUENCE:0
TRANSP:OPAQUE
END:VEVENT
END:VCALENDAR