BEGIN:VCALENDAR
VERSION:2.0
PRODID:-//jEvents 2.0 for Joomla//EN
CALSCALE:GREGORIAN
METHOD:PUBLISH
BEGIN:VEVENT
UID:040000008200E00074C5B7101A82E00800000000F02879AE27C5D501000000000000000010000000A6DE8785E0DA29428CF83FF7BF2106FB
CATEGORIES:Dienstplan Einsatzabteilung 
CLASS:PUBLIC
CREATED:20210106T204000
SUMMARY:MA - Kraftbetriebene Geräte u. Aggregate
DESCRIPTION;ENCODING=QUOTED-PRINTABLE:
DTSTAMP:20260425T155300Z
DTSTART:20200123T190000Z
DTEND:20200123T203000Z
SEQUENCE:0
TRANSP:OPAQUE
END:VEVENT
END:VCALENDAR