BEGIN:VCALENDAR
VERSION:2.0
PRODID:-//jEvents 2.0 for Joomla//EN
CALSCALE:GREGORIAN
METHOD:PUBLISH
BEGIN:VEVENT
UID:040000008200E00074C5B7101A82E00800000000F01F81E127C5D501000000000000000010000000504163CBA727594496E1B4314E30A793
CATEGORIES:Dienstplan Einsatzabteilung 
CLASS:PUBLIC
CREATED:20210106T204000
SUMMARY:Rot / Grün - Schneiden und Trennen
DESCRIPTION;ENCODING=QUOTED-PRINTABLE:
DTSTAMP:20260421T120840Z
DTSTART:20200127T190000Z
DTEND:20200127T203000Z
SEQUENCE:0
TRANSP:OPAQUE
END:VEVENT
END:VCALENDAR