BEGIN:VCALENDAR
VERSION:2.0
PRODID:-//jEvents 2.0 for Joomla//EN
CALSCALE:GREGORIAN
METHOD:PUBLISH
BEGIN:VEVENT
UID:040000008200E00074C5B7101A82E0080000000040E6FC3F28C5D501000000000000000010000000D65440E646E2424F8EDE6686A7B44F11
CATEGORIES:Dienstplan Einsatzabteilung 
CLASS:PUBLIC
CREATED:20210106T204000
SUMMARY:AGT - Jährliche Unterweisung
DESCRIPTION;ENCODING=QUOTED-PRINTABLE:
DTSTAMP:20260421T053947Z
DTSTART:20200220T190000Z
DTEND:20200220T203000Z
SEQUENCE:0
TRANSP:OPAQUE
END:VEVENT
END:VCALENDAR