BEGIN:VCALENDAR
VERSION:2.0
PRODID:-//jEvents 2.0 for Joomla//EN
CALSCALE:GREGORIAN
METHOD:PUBLISH
BEGIN:VEVENT
UID:040000008200E00074C5B7101A82E00800000000C08F3D9829C5D5010000000000000000100000006C648DC7F3D4CA4EA410F575912C2239
CATEGORIES:Dienstplan Einsatzabteilung 
CLASS:PUBLIC
CREATED:20210106T204000
SUMMARY:Rot / Grün - Löscheinsatz
DESCRIPTION;ENCODING=QUOTED-PRINTABLE:
DTSTAMP:20260421T074231Z
DTSTART:20200504T180000Z
DTEND:20200504T193000Z
SEQUENCE:0
TRANSP:OPAQUE
END:VEVENT
END:VCALENDAR