BEGIN:VCALENDAR
VERSION:2.0
PRODID:-//jEvents 2.0 for Joomla//EN
CALSCALE:GREGORIAN
METHOD:PUBLISH
BEGIN:VEVENT
UID:040000008200E00074C5B7101A82E00800000000D0D014B228C5D5010000000000000000100000007F6B67D385BCFD428385C211B118ED64
CATEGORIES:Dienstplan Einsatzabteilung 
CLASS:PUBLIC
CREATED:20210106T204000
SUMMARY:Gelb / Grün - Heben und Bewegen von Lasten
DESCRIPTION;ENCODING=QUOTED-PRINTABLE:
DTSTAMP:20260421T055416Z
DTSTART:20200309T190000Z
DTEND:20200309T203000Z
SEQUENCE:0
TRANSP:OPAQUE
END:VEVENT
END:VCALENDAR