BEGIN:VCALENDAR
VERSION:2.0
PRODID:-//jEvents 2.0 for Joomla//EN
CALSCALE:GREGORIAN
METHOD:PUBLISH
BEGIN:VEVENT
UID:8mgill562thkk02c0k9dlthvi3gsvlf4i0kklute9a9nflo9ej9frocqmv@google.com
CATEGORIES:Dienstplan Einsatzabteilung 
CREATED:20210106T204000
SUMMARY:Kleideranprobe
DESCRIPTION;ENCODING=QUOTED-PRINTABLE:
DTSTAMP:20260423T101017Z
DTSTART:20200125T103000Z
DTEND:20200125T110000Z
SEQUENCE:0
TRANSP:OPAQUE
END:VEVENT
END:VCALENDAR