BEGIN:VCALENDAR
VERSION:2.0
PRODID:-//jEvents 2.0 for Joomla//EN
CALSCALE:GREGORIAN
METHOD:PUBLISH
BEGIN:VEVENT
UID:kvkk4bo8u6ignb77mncdegqc3mtic7iu11qcgi6k203is1ruflbn0qvmm6@google.com
CATEGORIES:Dienstplan Einsatzabteilung 
CREATED:20210106T204000
SUMMARY:Treppenlauf
LOCATION:Bad Wildbad
DESCRIPTION;ENCODING=QUOTED-PRINTABLE:<a href="https://my.raceresult.com/140279/participants?lang=de">https://my.
 raceresult.com/140279/participants?lang=de</a>
DTSTAMP:20260421T074536Z
DTSTART:20200529T170000Z
DTEND:20200529T180000Z
SEQUENCE:0
TRANSP:OPAQUE
END:VEVENT
END:VCALENDAR