BEGIN:VCALENDAR
VERSION:2.0
PRODID:-//jEvents 2.0 for Joomla//EN
CALSCALE:GREGORIAN
METHOD:PUBLISH
BEGIN:VEVENT
UID:040000008200E00074C5B7101A82E00800000000B074E6C028C5D501000000000000000010000000F69DA4BA037D5E4C94C4B9973EC64265
CATEGORIES:Dienstplan Einsatzabteilung 
CLASS:PUBLIC
CREATED:20210106T203959
SUMMARY:ABGESAGT - MA - LF + TS jÃ¤hrliche Unterweisung
DESCRIPTION;ENCODING=QUOTED-PRINTABLE:
DTSTAMP:20260421T103451Z
DTSTART:20200312T190000Z
DTEND:20200312T203000Z
SEQUENCE:0
TRANSP:OPAQUE
END:VEVENT
END:VCALENDAR