BEGIN:VCALENDAR
VERSION:2.0
PRODID:-//jEvents 2.0 for Joomla//EN
CALSCALE:GREGORIAN
METHOD:PUBLISH
BEGIN:VEVENT
UID:CSVConvert99b9f23dd4ae840c73520cc7675ec6d4
CATEGORIES:Dienstplan Einsatzabteilung 
CREATED:20210106T203959
SUMMARY:ABGESAGT - Feuerwehrsport
LOCATION:Kasteneckhalle in Freiberg am Neckar
DESCRIPTION;ENCODING=QUOTED-PRINTABLE:Abfahrt am Gerätehaus um 09:30 Uhr
DTSTAMP:20260421T055407Z
DTSTART:20200315T090000Z
DTEND:20200315T110000Z
SEQUENCE:0
TRANSP:OPAQUE
END:VEVENT
END:VCALENDAR