BEGIN:VCALENDAR
VERSION:2.0
PRODID:-//jEvents 2.0 for Joomla//EN
CALSCALE:GREGORIAN
METHOD:PUBLISH
BEGIN:VEVENT
UID:040000008200E00074C5B7101A82E00800000000504123D128C5D501000000000000000010000000759E9BCD7DE15D488EC82A9CAA93BEAF
CATEGORIES:Dienstplan Einsatzabteilung 
CLASS:PUBLIC
CREATED:20210106T203959
SUMMARY:ABGESAGT - FüGr - Lagekarte, taktische Zeichen
DESCRIPTION;ENCODING=QUOTED-PRINTABLE:
DTSTAMP:20260421T053733Z
DTSTART:20200316T190000Z
DTEND:20200316T203000Z
SEQUENCE:0
TRANSP:OPAQUE
END:VEVENT
END:VCALENDAR