BEGIN:VCALENDAR
VERSION:2.0
PRODID:-//jEvents 2.0 for Joomla//EN
CALSCALE:GREGORIAN
METHOD:PUBLISH
BEGIN:VEVENT
UID:040000008200E00074C5B7101A82E008000000007088771A29C5D501000000000000000010000000C322D90B70350E41AD8D2292FABD55DB
CATEGORIES:Dienstplan Einsatzabteilung 
CLASS:PUBLIC
CREATED:20210106T203959
SUMMARY:ABGESAGT - Grün / Blau - Hydr. RettungsgerÃ¤te
DESCRIPTION;ENCODING=QUOTED-PRINTABLE:
DTSTAMP:20260421T055451Z
DTSTART:20200330T180000Z
DTEND:20200330T193000Z
SEQUENCE:0
TRANSP:OPAQUE
END:VEVENT
END:VCALENDAR