BEGIN:VCALENDAR
VERSION:2.0
PRODID:-//jEvents 2.0 for Joomla//EN
CALSCALE:GREGORIAN
METHOD:PUBLISH
BEGIN:VEVENT
UID:040000008200E00074C5B7101A82E0080000000090A801222AC5D501000000000000000010000000D32B56B871D9FA48937311D9851291AC
CATEGORIES:Dienstplan Einsatzabteilung 
CLASS:PUBLIC
CREATED:20210106T203959
SUMMARY:ABSAGT - Gesamt - Gruppe / Zug im Brandeinsatz
DESCRIPTION;ENCODING=QUOTED-PRINTABLE:
DTSTAMP:20260421T115109Z
DTSTART:20200622T180000Z
DTEND:20200622T193000Z
SEQUENCE:0
TRANSP:OPAQUE
END:VEVENT
END:VCALENDAR