BEGIN:VCALENDAR
VERSION:2.0
PRODID:-//jEvents 2.0 for Joomla//EN
CALSCALE:GREGORIAN
METHOD:PUBLISH
BEGIN:VEVENT
UID:040000008200E00074C5B7101A82E00800000000A05B78422AC5D501000000000000000010000000523095EA0549F147AD01A6C90A098CF0
CATEGORIES:Dienstplan Einsatzabteilung 
CLASS:PUBLIC
CREATED:20210106T203959
SUMMARY:ABSAGT - Helfer - TM6 Modul (VU groÃ)
DESCRIPTION;ENCODING=QUOTED-PRINTABLE:
DTSTAMP:20260421T101628Z
DTSTART:20200627T060000Z
DTEND:20200627T150000Z
SEQUENCE:0
TRANSP:OPAQUE
END:VEVENT
END:VCALENDAR