BEGIN:VCALENDAR
VERSION:2.0
PRODID:-//jEvents 2.0 for Joomla//EN
CALSCALE:GREGORIAN
METHOD:PUBLISH
BEGIN:VEVENT
UID:040000008200E00074C5B7101A82E00800000000F0EE7B2E2AC5D5010000000000000000100000009D567C0DA17F6649A40A937305DD7DDD
CATEGORIES:Dienstplan Einsatzabteilung 
CLASS:PUBLIC
CREATED:20210106T203959
SUMMARY:ABSAGT - Stationsausbildung
DESCRIPTION;ENCODING=QUOTED-PRINTABLE:
DTSTAMP:20260421T105142Z
DTSTART:20200625T180000Z
DTEND:20200625T193000Z
SEQUENCE:0
TRANSP:OPAQUE
END:VEVENT
END:VCALENDAR