BEGIN:VCALENDAR
VERSION:2.0
PRODID:-//jEvents 2.0 for Joomla//EN
CALSCALE:GREGORIAN
METHOD:PUBLISH
BEGIN:VEVENT
UID:040000008200E00074C5B7101A82E00800000000D0DB1F542AC5D5010000000000000000100000004A1E70E7ED50FB4BA6B15E4D2AAE8AC0
CATEGORIES:Dienstplan Einsatzabteilung 
CLASS:PUBLIC
CREATED:20210106T203959
SUMMARY:Grün 1 - Einweisung LF KatS
DESCRIPTION;ENCODING=QUOTED-PRINTABLE:
DTSTAMP:20260421T113934Z
DTSTART:20200629T180000Z
DTEND:20200629T193000Z
SEQUENCE:0
TRANSP:OPAQUE
END:VEVENT
END:VCALENDAR