BEGIN:VCALENDAR
VERSION:2.0
PRODID:-//jEvents 2.0 for Joomla//EN
CALSCALE:GREGORIAN
METHOD:PUBLISH
BEGIN:VEVENT
UID:040000008200E00074C5B7101A82E008000000000083BED82AC5D501000000000000000010000000A6D00DF99AC4D7468E799575E4309A59
CATEGORIES:Dienstplan Einsatzabteilung 
CLASS:PUBLIC
CREATED:20210106T203959
SUMMARY:Grün 1 - Einweisung LF KatS
DESCRIPTION;ENCODING=QUOTED-PRINTABLE:
DTSTAMP:20260421T123114Z
DTSTART:20200727T180000Z
DTEND:20200727T193000Z
SEQUENCE:0
TRANSP:OPAQUE
END:VEVENT
END:VCALENDAR