BEGIN:VCALENDAR
VERSION:2.0
PRODID:-//jEvents 2.0 for Joomla//EN
CALSCALE:GREGORIAN
METHOD:PUBLISH
BEGIN:VEVENT
UID:0g2flo8slaqr5hmcjnlduedpun@google.com
CATEGORIES:Dienstplan Einsatzabteilung 
CREATED:20210106T203959
SUMMARY:Hauptversammlung KFV
DESCRIPTION;ENCODING=QUOTED-PRINTABLE:
DTSTAMP:20260421T145044Z
DTSTART:20200911T170000Z
DTEND:20200911T210000Z
SEQUENCE:0
TRANSP:OPAQUE
END:VEVENT
END:VCALENDAR