BEGIN:VCALENDAR
VERSION:2.0
PRODID:-//jEvents 2.0 for Joomla//EN
CALSCALE:GREGORIAN
METHOD:PUBLISH
BEGIN:VEVENT
UID:CSVConvertb61e2ac77156f95c284a69d17f162efa
CATEGORIES:Dienstplan Einsatzabteilung 
CREATED:20210106T203959
SUMMARY:TOWERRUN Rottweil
LOCATION:Rottweil
DESCRIPTION;ENCODING=QUOTED-PRINTABLE:nähere Informationen unter www.thyssenkrupp-towerrun.de - Anmeldungen ab 17
 .02.2020 ab 10:00 Uhr möglich
DTSTAMP:20260421T142242Z
DTSTART:20200920T070000Z
DTEND:20200920T140000Z
SEQUENCE:0
TRANSP:OPAQUE
END:VEVENT
END:VCALENDAR