BEGIN:VCALENDAR
VERSION:2.0
PRODID:-//jEvents 2.0 for Joomla//EN
CALSCALE:GREGORIAN
METHOD:PUBLISH
BEGIN:VEVENT
UID:5a6u64vede1vij0haoo5s7st6lt76bk0f53svq286m5e3n3ar88gqvnt1b@google.com
CATEGORIES:Dienstplan Einsatzabteilung 
CREATED:20210106T203959
SUMMARY:Radfahren
DESCRIPTION;ENCODING=QUOTED-PRINTABLE:
DTSTAMP:20260421T160145Z
DTSTART:20200920T070000Z
DTEND:20200920T090000Z
SEQUENCE:0
TRANSP:OPAQUE
END:VEVENT
END:VCALENDAR