BEGIN:VCALENDAR
VERSION:2.0
PRODID:-//jEvents 2.0 for Joomla//EN
CALSCALE:GREGORIAN
METHOD:PUBLISH
BEGIN:VEVENT
UID:grkqjr36fh110nd7un0k3ghamuv84f0rdja2e33fbkuahvhk6oi52b8d58@google.com
CATEGORIES:Dienstplan Einsatzabteilung 
CREATED:20210106T203959
SUMMARY:Sportabzeichen (mit David)
DESCRIPTION;ENCODING=QUOTED-PRINTABLE:
DTSTAMP:20260421T144600Z
DTSTART:20200915T160000Z
DTEND:20200915T173000Z
SEQUENCE:0
TRANSP:OPAQUE
END:VEVENT
END:VCALENDAR