BEGIN:VCALENDAR
VERSION:2.0
PRODID:-//jEvents 2.0 for Joomla//EN
CALSCALE:GREGORIAN
METHOD:PUBLISH
BEGIN:VEVENT
UID:040000008200E00074C5B7101A82E008000000007046512B2BC5D5010000000000000000100000002D71C1B8A8446B4EAE5F6E78524B7BEB
CATEGORIES:Dienstplan Einsatzabteilung 
CLASS:PUBLIC
CREATED:20210106T203959
SUMMARY:Rot - Auffangen, abdichten, umfüllen
DESCRIPTION;ENCODING=QUOTED-PRINTABLE:
DTSTAMP:20260421T150312Z
DTSTART:20200921T180000Z
DTEND:20200921T193000Z
SEQUENCE:0
TRANSP:OPAQUE
END:VEVENT
END:VCALENDAR