BEGIN:VCALENDAR
VERSION:2.0
PRODID:-//jEvents 2.0 for Joomla//EN
CALSCALE:GREGORIAN
METHOD:PUBLISH
BEGIN:VEVENT
UID:040000008200E00074C5B7101A82E00800000000806B133C32C5D5010000000000000000100000005919888D116C8F4586D8C1E61EB4C935
CATEGORIES:Dienstplan Einsatzabteilung 
CLASS:PUBLIC
CREATED:20210106T203959
SUMMARY:Rot - EH Retten und Transport von Verletzten
DESCRIPTION;ENCODING=QUOTED-PRINTABLE:
DTSTAMP:20260421T193028Z
DTSTART:20201116T190000Z
DTEND:20201116T203000Z
SEQUENCE:0
TRANSP:OPAQUE
END:VEVENT
END:VCALENDAR