BEGIN:VCALENDAR
VERSION:2.0
PRODID:-//jEvents 2.0 for Joomla//EN
CALSCALE:GREGORIAN
METHOD:PUBLISH
BEGIN:VEVENT
UID:040000008200E00074C5B7101A82E00800000000909463A52BC5D5010000000000000000100000003724689C1391DF4680D8148DB0C3F3DA
CATEGORIES:Dienstplan Einsatzabteilung 
CLASS:PUBLIC
CREATED:20210106T203959
SUMMARY:Rot - Not Dekon
DESCRIPTION;ENCODING=QUOTED-PRINTABLE:
DTSTAMP:20260421T161947Z
DTSTART:20201019T180000Z
DTEND:20201019T193000Z
SEQUENCE:0
TRANSP:OPAQUE
END:VEVENT
END:VCALENDAR