BEGIN:VCALENDAR
VERSION:2.0
PRODID:-//jEvents 2.0 for Joomla//EN
CALSCALE:GREGORIAN
METHOD:PUBLISH
BEGIN:VEVENT
UID:9elrlpojhlhomtascvnod6nvubs6s9i247i1fe6h0pdqtfhiknvgl4g1la@google.com
CATEGORIES:Dienstplan Einsatzabteilung 
CLASS:PUBLIC
CREATED:20210106T203959
SUMMARY:Gelb - Auffangen, abdichten, umfüllen
DESCRIPTION;ENCODING=QUOTED-PRINTABLE:
DTSTAMP:20260421T142925Z
DTSTART:20200928T180000Z
DTEND:20200928T193000Z
SEQUENCE:0
TRANSP:OPAQUE
END:VEVENT
END:VCALENDAR