BEGIN:VCALENDAR
VERSION:2.0
PRODID:-//jEvents 2.0 for Joomla//EN
CALSCALE:GREGORIAN
METHOD:PUBLISH
BEGIN:VEVENT
UID:jo5ep73dk4rb06d39ttnnvtrcmvru2cirfhc7k4f75u04upou0b84rgdmj@google.com
CATEGORIES:Dienstplan Einsatzabteilung 
CLASS:PUBLIC
CREATED:20210106T203959
SUMMARY:Grün - Auffangen, abdichten, umfüllen
DESCRIPTION;ENCODING=QUOTED-PRINTABLE:
DTSTAMP:20260421T171107Z
DTSTART:20201005T180000Z
DTEND:20201005T193000Z
SEQUENCE:0
TRANSP:OPAQUE
END:VEVENT
END:VCALENDAR