BEGIN:VCALENDAR
VERSION:2.0
PRODID:-//jEvents 2.0 for Joomla//EN
CALSCALE:GREGORIAN
METHOD:PUBLISH
BEGIN:VEVENT
UID:grfpkga7ndad0s0pr1hk0qtm6l7782mr9u4sq4ck19sk68se1vp9m5pn3i@google.com
CATEGORIES:Dienstplan Einsatzabteilung 
CLASS:PUBLIC
CREATED:20210106T203959
SUMMARY:Blau - Auffangen, abdichten, umfüllen
DESCRIPTION;ENCODING=QUOTED-PRINTABLE:
DTSTAMP:20260425T111540Z
DTSTART:20201012T180000Z
DTEND:20201012T193000Z
SEQUENCE:0
TRANSP:OPAQUE
END:VEVENT
END:VCALENDAR