BEGIN:VCALENDAR
VERSION:2.0
PRODID:-//jEvents 2.0 for Joomla//EN
CALSCALE:GREGORIAN
METHOD:PUBLISH
BEGIN:VEVENT
UID:liso6vp5d9gctq868vj6k5f2mkupodb5n0t9rg5u01b3jj5vrevmsm4bcs@google.com
CATEGORIES:Dienstplan Einsatzabteilung 
CLASS:PUBLIC
CREATED:20210106T203959
SUMMARY:Gelb - Not Dekon
DESCRIPTION;ENCODING=QUOTED-PRINTABLE:
DTSTAMP:20260421T162039Z
DTSTART:20201026T190000Z
DTEND:20201026T203000Z
SEQUENCE:0
TRANSP:OPAQUE
END:VEVENT
END:VCALENDAR