BEGIN:VCALENDAR
VERSION:2.0
PRODID:-//jEvents 2.0 for Joomla//EN
CALSCALE:GREGORIAN
METHOD:PUBLISH
BEGIN:VEVENT
UID:jfv7kdckbmgq2127lkp2jau59om0868psv2bu3gbn9ga276u6vpk5oc85e@google.com
CATEGORIES:Dienstplan Einsatzabteilung 
CLASS:PUBLIC
CREATED:20210106T203959
SUMMARY:Blau - Not Dekon
DESCRIPTION;ENCODING=QUOTED-PRINTABLE:
DTSTAMP:20260421T171107Z
DTSTART:20201109T190000Z
DTEND:20201109T203000Z
SEQUENCE:0
TRANSP:OPAQUE
END:VEVENT
END:VCALENDAR