BEGIN:VCALENDAR
VERSION:2.0
PRODID:-//jEvents 2.0 for Joomla//EN
CALSCALE:GREGORIAN
METHOD:PUBLISH
BEGIN:VEVENT
UID:n5avqp88fenmpkou0908gotefg2qlhlqhd5aph547vilpe0cjcv067lnr5@google.com
CATEGORIES:Dienstplan Einsatzabteilung 
CLASS:PUBLIC
CREATED:20210106T203959
SUMMARY:Gelb - EH Retten und Transport von Verletzten
DESCRIPTION;ENCODING=QUOTED-PRINTABLE:
DTSTAMP:20260423T101523Z
DTSTART:20201123T190000Z
DTEND:20201123T203000Z
SEQUENCE:0
TRANSP:OPAQUE
END:VEVENT
END:VCALENDAR