BEGIN:VCALENDAR
VERSION:2.0
PRODID:-//jEvents 2.0 for Joomla//EN
CALSCALE:GREGORIAN
METHOD:PUBLISH
BEGIN:VEVENT
UID:709ngjpme9dgecbfjohkmi4krfduf0m8dv0aa7khjiivb3jl6g3vfbgs91@google.com
CATEGORIES:Dienstplan Einsatzabteilung 
CLASS:PUBLIC
CREATED:20210106T203959
SUMMARY:Grün - EH Retten und Transport von Verletzten
DESCRIPTION;ENCODING=QUOTED-PRINTABLE:
DTSTAMP:20260423T101157Z
DTSTART:20201130T190000Z
DTEND:20201130T203000Z
SEQUENCE:0
TRANSP:OPAQUE
END:VEVENT
END:VCALENDAR