BEGIN:VCALENDAR
VERSION:2.0
PRODID:-//jEvents 2.0 for Joomla//EN
CALSCALE:GREGORIAN
METHOD:PUBLISH
BEGIN:VEVENT
UID:ekoppks48rbhdeuokkl557aohtkenbcs8926s81jk34h9bnm49of5dlq35@google.com
CATEGORIES:Dienstplan Einsatzabteilung 
CLASS:PUBLIC
CREATED:20210106T203959
SUMMARY:Blau - EH Retten und Transport von Verletzten
DESCRIPTION;ENCODING=QUOTED-PRINTABLE:
DTSTAMP:20260421T202238Z
DTSTART:20201207T190000Z
DTEND:20201207T203000Z
SEQUENCE:0
TRANSP:OPAQUE
END:VEVENT
END:VCALENDAR