BEGIN:VCALENDAR
VERSION:2.0
PRODID:-//jEvents 2.0 for Joomla//EN
CALSCALE:GREGORIAN
METHOD:PUBLISH
BEGIN:VEVENT
UID:gan2erccc0uj6f3dgvj6vgdnstag8vnl2avv8i9c0ugq9etqj5shtal8jr@google.com
CATEGORIES:Dienstplan Einsatzabteilung 
CREATED:20210106T203959
SUMMARY:FüGru
DESCRIPTION;ENCODING=QUOTED-PRINTABLE:
DTSTAMP:20260421T161947Z
DTSTART:20201014T180000Z
DTEND:20201014T193000Z
SEQUENCE:0
TRANSP:OPAQUE
END:VEVENT
END:VCALENDAR