BEGIN:VCALENDAR
VERSION:2.0
PRODID:-//jEvents 2.0 for Joomla//EN
CALSCALE:GREGORIAN
METHOD:PUBLISH
BEGIN:VEVENT
UID:209r5ksdtcvkd1stbbevjfsucugjrdfnvt8uuj0r1p9q57u1mtbuilhtg6@google.com
CATEGORIES:Dienstplan Einsatzabteilung 
CREATED:20210106T203959
SUMMARY:Grün - Schnellbahntrasse
DESCRIPTION;ENCODING=QUOTED-PRINTABLE:
DTSTAMP:20260421T150150Z
DTSTART:20200929T180000Z
DTEND:20200929T193000Z
SEQUENCE:0
TRANSP:OPAQUE
END:VEVENT
END:VCALENDAR