BEGIN:VCALENDAR
VERSION:2.0
PRODID:-//jEvents 2.0 for Joomla//EN
CALSCALE:GREGORIAN
METHOD:PUBLISH
BEGIN:VEVENT
UID:h9e97pr4c6jul9rlhtlus9kh4906o76s8vfdafqe36gi83a9396r9bk7qa@google.com
CATEGORIES:Dienstplan Einsatzabteilung 
CLASS:PUBLIC
CREATED:20210106T203959
SUMMARY:Grün - Not Dekon
DESCRIPTION;ENCODING=QUOTED-PRINTABLE:Guten Abend zusammen,\nSoeben hat JJ die Einladungs-Mail für unsere morgige
  Online-Übung versendet. \n\nDie App ist mit iOS und Androide kostenlos im 
 jeweiligen Store erhältlich. \nEbenfalls möglich sich per PC einzuwählen od
 er per Telefonleitung. \n\nWichtig hierfür der Zugangscode.\nIn unserem Fal
 l 983-226-685\n\nDieser ist beim Öffnen der App in der oberen Zeile einzutr
 agen „Meeting-ID“\n\nFür die Übung ist es nicht zwingend erforderlich dass 
 ihr per Videoschaltung dabei seit, wichtig ist das Mikrofon parat zu haben 
 und einen Bildschirm um unsere Live-Schalte zu verfolgen. \n\nBei Fragen kö
 nnt Ihr mich jederzeit direkt anschreiben ggf morgen Abend anrufen. \n\nSch
 önen Abend Euch
DTSTAMP:20260421T181258Z
DTSTART:20201102T190000Z
DTEND:20201102T203000Z
SEQUENCE:0
TRANSP:OPAQUE
END:VEVENT
END:VCALENDAR