BEGIN:VCALENDAR
VERSION:2.0
PRODID:-//jEvents 2.0 for Joomla//EN
CALSCALE:GREGORIAN
METHOD:PUBLISH
BEGIN:VEVENT
UID:crbhh7fjojgsss4p99pdrbvrin8ptncg9e6t7bn6kij115j2ed6vmn235h@google.com
CATEGORIES:Dienstplan Einsatzabteilung 
CREATED:20210106T203959
SUMMARY:Geobyte Onlineübung
DESCRIPTION;ENCODING=QUOTED-PRINTABLE:
DTSTAMP:20260421T181236Z
DTSTART:20201119T180000Z
DTEND:20201119T200000Z
SEQUENCE:0
TRANSP:OPAQUE
END:VEVENT
END:VCALENDAR