BEGIN:VCALENDAR
VERSION:2.0
PRODID:-//jEvents 2.0 for Joomla//EN
CALSCALE:GREGORIAN
METHOD:PUBLISH
BEGIN:VEVENT
UID:ob0nmfibr640tuuj98ran04bqejqfbq4q7a9qqk3qco18ctbfflg4c2v6r@google.com
CATEGORIES:Dienstplan Einsatzabteilung 
CREATED:20210106T203959
SUMMARY:Übung Führungsgruppe
DESCRIPTION;ENCODING=QUOTED-PRINTABLE:
DTSTAMP:20260423T130424Z
DTSTART:20201118T190000Z
DTEND:20201118T200000Z
SEQUENCE:0
TRANSP:OPAQUE
END:VEVENT
END:VCALENDAR