BEGIN:VCALENDAR
VERSION:2.0
PRODID:-//jEvents 2.0 for Joomla//EN
CALSCALE:GREGORIAN
METHOD:PUBLISH
BEGIN:VEVENT
UID:57vs53eagcq5e5c11dkh4snn0m@google.com
CATEGORIES:Dienstplan Einsatzabteilung 
CREATED:20210106T203959
SUMMARY:Online-Ausschuss-Sitzung
DESCRIPTION;ENCODING=QUOTED-PRINTABLE:Hallo, zusammen!<br><br>Anbei die Einladung zur&nbsp;<b>Online-Ausschuss-Si
 tzung am 21.12.2020 um 19:30 Uhr</b>.<br><br><br>Online-Ausschuss-Sitzung<b
 r>Mo., 21. Dez. 2020 19:30 - 20:30 (CET)<br><br>Nehmen Sie an meinem Meetin
 g per Computer, Tablet oder Smartphone teil.<br><br><a href="https://global
 .gotomeeting.com/join/222227173">https://global.gotomeeting.<wbr>com/join/2
 22227173</a><br><br>Sie können sich auch über ein Telefon einwählen.<br>(Be
 i Geräten, die diese Funktion unterstützen, ist die sofortige Teilnahme übe
 r eine der unten aufgeführten Direktwahlnummern möglich.)<br><br>Deutschlan
 d: +49 721 6059 6510<br>- Direktwahl:&nbsp;<a>tel:+4972160596510,,222227173
 #</a><br><br>Zugangscode: 222-227-173<br><br><br>Sie kennen GoToMeeting noc
 h nicht? Installieren Sie jetzt die App, damit Sie für Ihr erstes Meeting b
 ereit sind:&nbsp;<a href="https://global.gotomeeting.com/install/222227173"
 >https://global.gotomeeting.<wbr>com/install/222227173</a>&nbsp;&nbsp;
DTSTAMP:20260421T185709Z
DTSTART:20201221T183000Z
DTEND:20201221T203000Z
SEQUENCE:0
TRANSP:OPAQUE
END:VEVENT
END:VCALENDAR