BEGIN:VCALENDAR
VERSION:2.0
PRODID:-//jEvents 2.0 for Joomla//EN
CALSCALE:GREGORIAN
METHOD:PUBLISH
BEGIN:VEVENT
UID:CSVConverta225fc21fe5aa4118f40452e99486009
CATEGORIES:Dienstplan Einsatzabteilung 
CREATED:20210106T203959
SUMMARY:Atemschutzgeräteträger - Belastungsübung VAI
LOCATION:Vaihingen / Enz
DESCRIPTION;ENCODING=QUOTED-PRINTABLE:Übung - Atemschutzgeräteträger - Themenblock: Belastungsübung VAI - Ausbild
 er: MH
DTSTAMP:20260422T004813Z
DTSTART:20210224T171500Z
DTEND:20210224T210000Z
SEQUENCE:0
TRANSP:OPAQUE
END:VEVENT
END:VCALENDAR