BEGIN:VCALENDAR
VERSION:2.0
PRODID:-//jEvents 2.0 for Joomla//EN
CALSCALE:GREGORIAN
METHOD:PUBLISH
BEGIN:VEVENT
UID:CSVConvertb97726003c77f40cda7f17c3e6f8b9d8
CATEGORIES:Dienstplan Einsatzabteilung 
CREATED:20210106T203959
SUMMARY:Atemschutzgeräteträger - Jährliche Unterweisung
LOCATION:Schwieberdingen
DESCRIPTION;ENCODING=QUOTED-PRINTABLE:Übung - Atemschutzgeräteträger - Themenblock: Jährliche Unterweisung - Ausb
 ilder: MH
DTSTAMP:20260421T235115Z
DTSTART:20210225T190000Z
DTEND:20210225T203000Z
SEQUENCE:0
TRANSP:OPAQUE
END:VEVENT
END:VCALENDAR