BEGIN:VCALENDAR
VERSION:2.0
PRODID:-//jEvents 2.0 for Joomla//EN
CALSCALE:GREGORIAN
METHOD:PUBLISH
BEGIN:VEVENT
UID:CSVConvert9fb35cbfe22971795dbed6046b76f25f
CATEGORIES:Dienstplan Einsatzabteilung 
CREATED:20210106T203959
SUMMARY:Atemschutzgeräteträger - Stationsausbildung
LOCATION:Schwieberdingen
DESCRIPTION;ENCODING=QUOTED-PRINTABLE:Übung - Atemschutzgeräteträger - Themenblock: Stationsausbildung - Ausbilde
 r: MH
DTSTAMP:20260422T105415Z
DTSTART:20211125T190000Z
DTEND:20211125T203000Z
SEQUENCE:0
TRANSP:OPAQUE
END:VEVENT
END:VCALENDAR