BEGIN:VCALENDAR
VERSION:2.0
PRODID:-//jEvents 2.0 for Joomla//EN
CALSCALE:GREGORIAN
METHOD:PUBLISH
BEGIN:VEVENT
UID:CSVConvert872da2f134a877dedabb19cfd1c40a74
CATEGORIES:Dienstplan Einsatzabteilung 
CREATED:20210106T203959
SUMMARY:Atemschutzgeräteträger und Maschinisten - arbeitsmedizinische Untersuchung
LOCATION:Schwieberdingen
DESCRIPTION;ENCODING=QUOTED-PRINTABLE:Untersuchung G25 / G26 - Atemschutzgeräteträger und Maschinisten - Themenbl
 ock: arbeitsmedizinische Untersuchung - Ausbilder: MH
DTSTAMP:20260421T202159Z
DTSTART:20210124T080000Z
DTEND:20210124T150000Z
SEQUENCE:0
TRANSP:OPAQUE
END:VEVENT
END:VCALENDAR