BEGIN:VCALENDAR
VERSION:2.0
PRODID:-//jEvents 2.0 for Joomla//EN
CALSCALE:GREGORIAN
METHOD:PUBLISH
BEGIN:VEVENT
UID:CSVConvertbdb508ffa6e16eab7c5df5d27ff55fe0
CATEGORIES:Dienstplan Einsatzabteilung 
CREATED:20210106T203959
SUMMARY:Atemschutzgeräteträger und Maschinisten - arbeitsmedizinische Untersuchung
LOCATION:Schwieberdingen
DESCRIPTION;ENCODING=QUOTED-PRINTABLE:Untersuchung G25 / G26 - Atemschutzgeräteträger und Maschinisten - Themenbl
 ock: arbeitsmedizinische Untersuchung - Ausbilder: MH
DTSTAMP:20260421T202104Z
DTSTART:20210123T170000Z
DTEND:20210123T210000Z
SEQUENCE:0
TRANSP:OPAQUE
END:VEVENT
END:VCALENDAR